BEGIN:VCALENDAR
VERSION:2.0
PRODID:-//DPV Elektronik-Service GmbH//NONSGML Event Export//DE
BEGIN:VEVENT
UID:7c31957c60f7ef9570a826d715594a93@www.dpv-elektronik.de
LAST-MODIFIED:20260226T121918Z
DTSTAMP:20260421T041301Z
DTSTART:20261020
DTEND:20261021
SUMMARY:26. Jobstart-Treff
LOCATION:Eppingen
DESCRIPTION:	Hardwaldhalle, Berliner Ring 18	9 - 14 Uhr\n	\n	Starte deine Ausbildung bei uns!
END:VEVENT
END:VCALENDAR